BEGIN:VCALENDAR
VERSION:2.0
PRODID:-//Town Presque Isle - ECPv6.15.20//NONSGML v1.0//EN
CALSCALE:GREGORIAN
METHOD:PUBLISH
X-WR-CALNAME:Town Presque Isle
X-ORIGINAL-URL:https://presqueislewi.gov
X-WR-CALDESC:Events for Town Presque Isle
REFRESH-INTERVAL;VALUE=DURATION:PT1H
X-Robots-Tag:noindex
X-PUBLISHED-TTL:PT1H
BEGIN:VTIMEZONE
TZID:America/Chicago
BEGIN:DAYLIGHT
TZOFFSETFROM:-0600
TZOFFSETTO:-0500
TZNAME:CDT
DTSTART:20240310T080000
END:DAYLIGHT
BEGIN:STANDARD
TZOFFSETFROM:-0500
TZOFFSETTO:-0600
TZNAME:CST
DTSTART:20241103T070000
END:STANDARD
BEGIN:DAYLIGHT
TZOFFSETFROM:-0600
TZOFFSETTO:-0500
TZNAME:CDT
DTSTART:20250309T080000
END:DAYLIGHT
BEGIN:STANDARD
TZOFFSETFROM:-0500
TZOFFSETTO:-0600
TZNAME:CST
DTSTART:20251102T070000
END:STANDARD
BEGIN:DAYLIGHT
TZOFFSETFROM:-0600
TZOFFSETTO:-0500
TZNAME:CDT
DTSTART:20260308T080000
END:DAYLIGHT
BEGIN:STANDARD
TZOFFSETFROM:-0500
TZOFFSETTO:-0600
TZNAME:CST
DTSTART:20261101T070000
END:STANDARD
BEGIN:DAYLIGHT
TZOFFSETFROM:-0600
TZOFFSETTO:-0500
TZNAME:CDT
DTSTART:20270314T080000
END:DAYLIGHT
BEGIN:STANDARD
TZOFFSETFROM:-0500
TZOFFSETTO:-0600
TZNAME:CST
DTSTART:20271107T070000
END:STANDARD
END:VTIMEZONE
BEGIN:VEVENT
DTSTART;TZID=America/Chicago:20260120T150000
DTEND;TZID=America/Chicago:20260120T160000
DTSTAMP:20260421T061303
CREATED:20260106T183307Z
LAST-MODIFIED:20260106T183307Z
UID:10001725-1768921200-1768924800@presqueislewi.gov
SUMMARY:Asahi -  Tues 3-4 pm
DESCRIPTION:
URL:https://presqueislewi.gov/event/asahi-tues-3-4-pm/2026-01-20/
LOCATION:Community Room\, 8306 School Loop Rd\, Presque Isle\, 54557\, United States
ORGANIZER;CN="GIVN - Sarah Maki":MAILTO:sarah.maki44@gmail.com
END:VEVENT
BEGIN:VEVENT
DTSTART;TZID=America/Chicago:20251209T150000
DTEND;TZID=America/Chicago:20251209T160000
DTSTAMP:20260421T061303
CREATED:20251007T151851Z
LAST-MODIFIED:20251113T165243Z
UID:10001174-1765292400-1765296000@presqueislewi.gov
SUMMARY:ASAHI
DESCRIPTION:Join us for a gentle\, energizing movement session that promotes balance\, relaxation and well-being suitable for all.\nAsahi PI GIVN Oct-Dec 2025
URL:https://presqueislewi.gov/event/asahi/2025-12-09/
LOCATION:Community Room\, 8306 School Loop Rd\, Presque Isle\, 54557\, United States
ORGANIZER;CN="GIVN - Sarah Maki":MAILTO:sarah.maki44@gmail.com
END:VEVENT
BEGIN:VEVENT
DTSTART;TZID=America/Chicago:20251202T150000
DTEND;TZID=America/Chicago:20251202T160000
DTSTAMP:20260421T061303
CREATED:20251007T151851Z
LAST-MODIFIED:20251113T165243Z
UID:10001173-1764687600-1764691200@presqueislewi.gov
SUMMARY:ASAHI
DESCRIPTION:Join us for a gentle\, energizing movement session that promotes balance\, relaxation and well-being suitable for all.\nAsahi PI GIVN Oct-Dec 2025
URL:https://presqueislewi.gov/event/asahi/2025-12-02/
LOCATION:Community Room\, 8306 School Loop Rd\, Presque Isle\, 54557\, United States
ORGANIZER;CN="GIVN - Sarah Maki":MAILTO:sarah.maki44@gmail.com
END:VEVENT
BEGIN:VEVENT
DTSTART;TZID=America/Chicago:20251118T150000
DTEND;TZID=America/Chicago:20251118T160000
DTSTAMP:20260421T061303
CREATED:20251007T151851Z
LAST-MODIFIED:20251113T165243Z
UID:10001171-1763478000-1763481600@presqueislewi.gov
SUMMARY:ASAHI
DESCRIPTION:Join us for a gentle\, energizing movement session that promotes balance\, relaxation and well-being suitable for all.\nAsahi PI GIVN Oct-Dec 2025
URL:https://presqueislewi.gov/event/asahi/2025-11-18/
LOCATION:Community Room\, 8306 School Loop Rd\, Presque Isle\, 54557\, United States
ORGANIZER;CN="GIVN - Sarah Maki":MAILTO:sarah.maki44@gmail.com
END:VEVENT
BEGIN:VEVENT
DTSTART;TZID=America/Chicago:20251111T150000
DTEND;TZID=America/Chicago:20251111T160000
DTSTAMP:20260421T061303
CREATED:20251007T151851Z
LAST-MODIFIED:20251113T165243Z
UID:10001170-1762873200-1762876800@presqueislewi.gov
SUMMARY:ASAHI
DESCRIPTION:Join us for a gentle\, energizing movement session that promotes balance\, relaxation and well-being suitable for all.\nAsahi PI GIVN Oct-Dec 2025
URL:https://presqueislewi.gov/event/asahi/2025-11-11/
LOCATION:Community Room\, 8306 School Loop Rd\, Presque Isle\, 54557\, United States
ORGANIZER;CN="GIVN - Sarah Maki":MAILTO:sarah.maki44@gmail.com
END:VEVENT
BEGIN:VEVENT
DTSTART;TZID=America/Chicago:20251104T150000
DTEND;TZID=America/Chicago:20251104T160000
DTSTAMP:20260421T061303
CREATED:20251007T151851Z
LAST-MODIFIED:20251113T165243Z
UID:10001169-1762268400-1762272000@presqueislewi.gov
SUMMARY:ASAHI
DESCRIPTION:Join us for a gentle\, energizing movement session that promotes balance\, relaxation and well-being suitable for all.\nAsahi PI GIVN Oct-Dec 2025
URL:https://presqueislewi.gov/event/asahi/2025-11-04/
LOCATION:Community Room\, 8306 School Loop Rd\, Presque Isle\, 54557\, United States
ORGANIZER;CN="GIVN - Sarah Maki":MAILTO:sarah.maki44@gmail.com
END:VEVENT
BEGIN:VEVENT
DTSTART;TZID=America/Chicago:20251028T150000
DTEND;TZID=America/Chicago:20251028T160000
DTSTAMP:20260421T061303
CREATED:20251007T151851Z
LAST-MODIFIED:20251113T165243Z
UID:10001168-1761663600-1761667200@presqueislewi.gov
SUMMARY:ASAHI
DESCRIPTION:Join us for a gentle\, energizing movement session that promotes balance\, relaxation and well-being suitable for all.\nAsahi PI GIVN Oct-Dec 2025
URL:https://presqueislewi.gov/event/asahi/2025-10-28/
LOCATION:Community Room\, 8306 School Loop Rd\, Presque Isle\, 54557\, United States
ORGANIZER;CN="GIVN - Sarah Maki":MAILTO:sarah.maki44@gmail.com
END:VEVENT
BEGIN:VEVENT
DTSTART;TZID=America/Chicago:20251021T150000
DTEND;TZID=America/Chicago:20251021T160000
DTSTAMP:20260421T061303
CREATED:20251007T151851Z
LAST-MODIFIED:20251113T165243Z
UID:10001167-1761058800-1761062400@presqueislewi.gov
SUMMARY:ASAHI
DESCRIPTION:Join us for a gentle\, energizing movement session that promotes balance\, relaxation and well-being suitable for all.\nAsahi PI GIVN Oct-Dec 2025
URL:https://presqueislewi.gov/event/asahi/2025-10-21/
LOCATION:Community Room\, 8306 School Loop Rd\, Presque Isle\, 54557\, United States
ORGANIZER;CN="GIVN - Sarah Maki":MAILTO:sarah.maki44@gmail.com
END:VEVENT
BEGIN:VEVENT
DTSTART;TZID=America/Chicago:20251014T150000
DTEND;TZID=America/Chicago:20251014T160000
DTSTAMP:20260421T061303
CREATED:20251007T151851Z
LAST-MODIFIED:20251113T165243Z
UID:10001166-1760454000-1760457600@presqueislewi.gov
SUMMARY:ASAHI
DESCRIPTION:Join us for a gentle\, energizing movement session that promotes balance\, relaxation and well-being suitable for all.\nAsahi PI GIVN Oct-Dec 2025
URL:https://presqueislewi.gov/event/asahi/2025-10-14/
LOCATION:Community Room\, 8306 School Loop Rd\, Presque Isle\, 54557\, United States
ORGANIZER;CN="GIVN - Sarah Maki":MAILTO:sarah.maki44@gmail.com
END:VEVENT
BEGIN:VEVENT
DTSTART;TZID=America/Chicago:20251007T150000
DTEND;TZID=America/Chicago:20251007T160000
DTSTAMP:20260421T061303
CREATED:20251007T151851Z
LAST-MODIFIED:20251113T165243Z
UID:10001165-1759849200-1759852800@presqueislewi.gov
SUMMARY:ASAHI
DESCRIPTION:Join us for a gentle\, energizing movement session that promotes balance\, relaxation and well-being suitable for all.\nAsahi PI GIVN Oct-Dec 2025
URL:https://presqueislewi.gov/event/asahi/2025-10-07/
LOCATION:Community Room\, 8306 School Loop Rd\, Presque Isle\, 54557\, United States
ORGANIZER;CN="GIVN - Sarah Maki":MAILTO:sarah.maki44@gmail.com
END:VEVENT
BEGIN:VEVENT
DTSTART;TZID=America/Chicago:20250916T150000
DTEND;TZID=America/Chicago:20250916T160000
DTSTAMP:20260421T061303
CREATED:20250728T170147Z
LAST-MODIFIED:20250728T170147Z
UID:10001113-1758034800-1758038400@presqueislewi.gov
SUMMARY:Asahi Exercise
DESCRIPTION:
URL:https://presqueislewi.gov/event/asahi-exercise/2025-09-16/
LOCATION:Community Room\, 8306 School Loop Rd\, Presque Isle\, 54557\, United States
ORGANIZER;CN="GIVN - Sarah Maki":MAILTO:sarah.maki44@gmail.com
END:VEVENT
BEGIN:VEVENT
DTSTART;TZID=America/Chicago:20250909T150000
DTEND;TZID=America/Chicago:20250909T160000
DTSTAMP:20260421T061303
CREATED:20250728T170147Z
LAST-MODIFIED:20250728T170147Z
UID:10001112-1757430000-1757433600@presqueislewi.gov
SUMMARY:Asahi Exercise
DESCRIPTION:
URL:https://presqueislewi.gov/event/asahi-exercise/2025-09-09/
LOCATION:Community Room\, 8306 School Loop Rd\, Presque Isle\, 54557\, United States
ORGANIZER;CN="GIVN - Sarah Maki":MAILTO:sarah.maki44@gmail.com
END:VEVENT
BEGIN:VEVENT
DTSTART;TZID=America/Chicago:20250902T150000
DTEND;TZID=America/Chicago:20250902T160000
DTSTAMP:20260421T061303
CREATED:20250728T170147Z
LAST-MODIFIED:20250728T170147Z
UID:10001111-1756825200-1756828800@presqueislewi.gov
SUMMARY:Asahi Exercise
DESCRIPTION:
URL:https://presqueislewi.gov/event/asahi-exercise/2025-09-02/
LOCATION:Community Room\, 8306 School Loop Rd\, Presque Isle\, 54557\, United States
ORGANIZER;CN="GIVN - Sarah Maki":MAILTO:sarah.maki44@gmail.com
END:VEVENT
BEGIN:VEVENT
DTSTART;TZID=America/Chicago:20250826T150000
DTEND;TZID=America/Chicago:20250826T160000
DTSTAMP:20260421T061303
CREATED:20250728T170147Z
LAST-MODIFIED:20250728T170147Z
UID:10001110-1756220400-1756224000@presqueislewi.gov
SUMMARY:Asahi Exercise
DESCRIPTION:
URL:https://presqueislewi.gov/event/asahi-exercise/2025-08-26/
LOCATION:Community Room\, 8306 School Loop Rd\, Presque Isle\, 54557\, United States
ORGANIZER;CN="GIVN - Sarah Maki":MAILTO:sarah.maki44@gmail.com
END:VEVENT
BEGIN:VEVENT
DTSTART;TZID=America/Chicago:20250819T150000
DTEND;TZID=America/Chicago:20250819T160000
DTSTAMP:20260421T061303
CREATED:20250728T170147Z
LAST-MODIFIED:20250728T170147Z
UID:10001109-1755615600-1755619200@presqueislewi.gov
SUMMARY:Asahi Exercise
DESCRIPTION:
URL:https://presqueislewi.gov/event/asahi-exercise/2025-08-19/
LOCATION:Community Room\, 8306 School Loop Rd\, Presque Isle\, 54557\, United States
ORGANIZER;CN="GIVN - Sarah Maki":MAILTO:sarah.maki44@gmail.com
END:VEVENT
END:VCALENDAR