BEGIN:VCALENDAR
VERSION:2.0
PRODID:-//Town Presque Isle - ECPv6.15.20//NONSGML v1.0//EN
CALSCALE:GREGORIAN
METHOD:PUBLISH
X-WR-CALNAME:Town Presque Isle
X-ORIGINAL-URL:https://presqueislewi.gov
X-WR-CALDESC:Events for Town Presque Isle
REFRESH-INTERVAL;VALUE=DURATION:PT1H
X-Robots-Tag:noindex
X-PUBLISHED-TTL:PT1H
BEGIN:VTIMEZONE
TZID:America/Chicago
BEGIN:DAYLIGHT
TZOFFSETFROM:-0600
TZOFFSETTO:-0500
TZNAME:CDT
DTSTART:20250309T080000
END:DAYLIGHT
BEGIN:STANDARD
TZOFFSETFROM:-0500
TZOFFSETTO:-0600
TZNAME:CST
DTSTART:20251102T070000
END:STANDARD
BEGIN:DAYLIGHT
TZOFFSETFROM:-0600
TZOFFSETTO:-0500
TZNAME:CDT
DTSTART:20260308T080000
END:DAYLIGHT
BEGIN:STANDARD
TZOFFSETFROM:-0500
TZOFFSETTO:-0600
TZNAME:CST
DTSTART:20261101T070000
END:STANDARD
BEGIN:DAYLIGHT
TZOFFSETFROM:-0600
TZOFFSETTO:-0500
TZNAME:CDT
DTSTART:20270314T080000
END:DAYLIGHT
BEGIN:STANDARD
TZOFFSETFROM:-0500
TZOFFSETTO:-0600
TZNAME:CST
DTSTART:20271107T070000
END:STANDARD
END:VTIMEZONE
BEGIN:VEVENT
DTSTART;TZID=America/Chicago:20260421T150000
DTEND;TZID=America/Chicago:20260421T160000
DTSTAMP:20260421T032709
CREATED:20260106T183307Z
LAST-MODIFIED:20260106T183307Z
UID:10001738-1776783600-1776787200@presqueislewi.gov
SUMMARY:Asahi -  Tues 3-4 pm
DESCRIPTION:
URL:https://presqueislewi.gov/event/asahi-tues-3-4-pm/2026-04-21/
LOCATION:Community Room\, 8306 School Loop Rd\, Presque Isle\, 54557\, United States
ORGANIZER;CN="GIVN - Sarah Maki":MAILTO:sarah.maki44@gmail.com
END:VEVENT
BEGIN:VEVENT
DTSTART;TZID=America/Chicago:20260428T150000
DTEND;TZID=America/Chicago:20260428T160000
DTSTAMP:20260421T032709
CREATED:20260106T183307Z
LAST-MODIFIED:20260106T183307Z
UID:10001739-1777388400-1777392000@presqueislewi.gov
SUMMARY:Asahi -  Tues 3-4 pm
DESCRIPTION:
URL:https://presqueislewi.gov/event/asahi-tues-3-4-pm/2026-04-28/
LOCATION:Community Room\, 8306 School Loop Rd\, Presque Isle\, 54557\, United States
ORGANIZER;CN="GIVN - Sarah Maki":MAILTO:sarah.maki44@gmail.com
END:VEVENT
BEGIN:VEVENT
DTSTART;TZID=America/Chicago:20260505T150000
DTEND;TZID=America/Chicago:20260505T160000
DTSTAMP:20260421T032709
CREATED:20260106T183307Z
LAST-MODIFIED:20260106T183307Z
UID:10001740-1777993200-1777996800@presqueislewi.gov
SUMMARY:Asahi -  Tues 3-4 pm
DESCRIPTION:
URL:https://presqueislewi.gov/event/asahi-tues-3-4-pm/2026-05-05/
LOCATION:Community Room\, 8306 School Loop Rd\, Presque Isle\, 54557\, United States
ORGANIZER;CN="GIVN - Sarah Maki":MAILTO:sarah.maki44@gmail.com
END:VEVENT
BEGIN:VEVENT
DTSTART;TZID=America/Chicago:20260512T150000
DTEND;TZID=America/Chicago:20260512T160000
DTSTAMP:20260421T032709
CREATED:20260106T183307Z
LAST-MODIFIED:20260106T183307Z
UID:10001741-1778598000-1778601600@presqueislewi.gov
SUMMARY:Asahi -  Tues 3-4 pm
DESCRIPTION:
URL:https://presqueislewi.gov/event/asahi-tues-3-4-pm/2026-05-12/
LOCATION:Community Room\, 8306 School Loop Rd\, Presque Isle\, 54557\, United States
ORGANIZER;CN="GIVN - Sarah Maki":MAILTO:sarah.maki44@gmail.com
END:VEVENT
BEGIN:VEVENT
DTSTART;TZID=America/Chicago:20260519T150000
DTEND;TZID=America/Chicago:20260519T160000
DTSTAMP:20260421T032709
CREATED:20260106T183307Z
LAST-MODIFIED:20260106T183307Z
UID:10001742-1779202800-1779206400@presqueislewi.gov
SUMMARY:Asahi -  Tues 3-4 pm
DESCRIPTION:
URL:https://presqueislewi.gov/event/asahi-tues-3-4-pm/2026-05-19/
LOCATION:Community Room\, 8306 School Loop Rd\, Presque Isle\, 54557\, United States
ORGANIZER;CN="GIVN - Sarah Maki":MAILTO:sarah.maki44@gmail.com
END:VEVENT
BEGIN:VEVENT
DTSTART;TZID=America/Chicago:20260526T150000
DTEND;TZID=America/Chicago:20260526T160000
DTSTAMP:20260421T032709
CREATED:20260106T183307Z
LAST-MODIFIED:20260106T183307Z
UID:10001743-1779807600-1779811200@presqueislewi.gov
SUMMARY:Asahi -  Tues 3-4 pm
DESCRIPTION:
URL:https://presqueislewi.gov/event/asahi-tues-3-4-pm/2026-05-26/
LOCATION:Community Room\, 8306 School Loop Rd\, Presque Isle\, 54557\, United States
ORGANIZER;CN="GIVN - Sarah Maki":MAILTO:sarah.maki44@gmail.com
END:VEVENT
BEGIN:VEVENT
DTSTART;TZID=America/Chicago:20260602T150000
DTEND;TZID=America/Chicago:20260602T160000
DTSTAMP:20260421T032709
CREATED:20260106T183307Z
LAST-MODIFIED:20260106T183307Z
UID:10001744-1780412400-1780416000@presqueislewi.gov
SUMMARY:Asahi -  Tues 3-4 pm
DESCRIPTION:
URL:https://presqueislewi.gov/event/asahi-tues-3-4-pm/2026-06-02/
LOCATION:Community Room\, 8306 School Loop Rd\, Presque Isle\, 54557\, United States
ORGANIZER;CN="GIVN - Sarah Maki":MAILTO:sarah.maki44@gmail.com
END:VEVENT
BEGIN:VEVENT
DTSTART;TZID=America/Chicago:20260609T150000
DTEND;TZID=America/Chicago:20260609T160000
DTSTAMP:20260421T032709
CREATED:20260106T183307Z
LAST-MODIFIED:20260106T183307Z
UID:10001745-1781017200-1781020800@presqueislewi.gov
SUMMARY:Asahi -  Tues 3-4 pm
DESCRIPTION:
URL:https://presqueislewi.gov/event/asahi-tues-3-4-pm/2026-06-09/
LOCATION:Community Room\, 8306 School Loop Rd\, Presque Isle\, 54557\, United States
ORGANIZER;CN="GIVN - Sarah Maki":MAILTO:sarah.maki44@gmail.com
END:VEVENT
BEGIN:VEVENT
DTSTART;TZID=America/Chicago:20260616T150000
DTEND;TZID=America/Chicago:20260616T160000
DTSTAMP:20260421T032709
CREATED:20260106T183307Z
LAST-MODIFIED:20260106T183307Z
UID:10001746-1781622000-1781625600@presqueislewi.gov
SUMMARY:Asahi -  Tues 3-4 pm
DESCRIPTION:
URL:https://presqueislewi.gov/event/asahi-tues-3-4-pm/2026-06-16/
LOCATION:Community Room\, 8306 School Loop Rd\, Presque Isle\, 54557\, United States
ORGANIZER;CN="GIVN - Sarah Maki":MAILTO:sarah.maki44@gmail.com
END:VEVENT
BEGIN:VEVENT
DTSTART;TZID=America/Chicago:20260623T150000
DTEND;TZID=America/Chicago:20260623T160000
DTSTAMP:20260421T032709
CREATED:20260106T183307Z
LAST-MODIFIED:20260106T183307Z
UID:10001747-1782226800-1782230400@presqueislewi.gov
SUMMARY:Asahi -  Tues 3-4 pm
DESCRIPTION:
URL:https://presqueislewi.gov/event/asahi-tues-3-4-pm/2026-06-23/
LOCATION:Community Room\, 8306 School Loop Rd\, Presque Isle\, 54557\, United States
ORGANIZER;CN="GIVN - Sarah Maki":MAILTO:sarah.maki44@gmail.com
END:VEVENT
BEGIN:VEVENT
DTSTART;TZID=America/Chicago:20260630T150000
DTEND;TZID=America/Chicago:20260630T160000
DTSTAMP:20260421T032709
CREATED:20260106T183307Z
LAST-MODIFIED:20260106T183307Z
UID:10001748-1782831600-1782835200@presqueislewi.gov
SUMMARY:Asahi -  Tues 3-4 pm
DESCRIPTION:
URL:https://presqueislewi.gov/event/asahi-tues-3-4-pm/2026-06-30/
LOCATION:Community Room\, 8306 School Loop Rd\, Presque Isle\, 54557\, United States
ORGANIZER;CN="GIVN - Sarah Maki":MAILTO:sarah.maki44@gmail.com
END:VEVENT
BEGIN:VEVENT
DTSTART;TZID=America/Chicago:20260707T150000
DTEND;TZID=America/Chicago:20260707T160000
DTSTAMP:20260421T032709
CREATED:20260106T183307Z
LAST-MODIFIED:20260106T183307Z
UID:10001749-1783436400-1783440000@presqueislewi.gov
SUMMARY:Asahi -  Tues 3-4 pm
DESCRIPTION:
URL:https://presqueislewi.gov/event/asahi-tues-3-4-pm/2026-07-07/
LOCATION:Community Room\, 8306 School Loop Rd\, Presque Isle\, 54557\, United States
ORGANIZER;CN="GIVN - Sarah Maki":MAILTO:sarah.maki44@gmail.com
END:VEVENT
BEGIN:VEVENT
DTSTART;TZID=America/Chicago:20260714T150000
DTEND;TZID=America/Chicago:20260714T160000
DTSTAMP:20260421T032709
CREATED:20260106T183307Z
LAST-MODIFIED:20260106T183307Z
UID:10001750-1784041200-1784044800@presqueislewi.gov
SUMMARY:Asahi -  Tues 3-4 pm
DESCRIPTION:
URL:https://presqueislewi.gov/event/asahi-tues-3-4-pm/2026-07-14/
LOCATION:Community Room\, 8306 School Loop Rd\, Presque Isle\, 54557\, United States
ORGANIZER;CN="GIVN - Sarah Maki":MAILTO:sarah.maki44@gmail.com
END:VEVENT
BEGIN:VEVENT
DTSTART;TZID=America/Chicago:20260721T150000
DTEND;TZID=America/Chicago:20260721T160000
DTSTAMP:20260421T032709
CREATED:20260106T183307Z
LAST-MODIFIED:20260106T183307Z
UID:10001751-1784646000-1784649600@presqueislewi.gov
SUMMARY:Asahi -  Tues 3-4 pm
DESCRIPTION:
URL:https://presqueislewi.gov/event/asahi-tues-3-4-pm/2026-07-21/
LOCATION:Community Room\, 8306 School Loop Rd\, Presque Isle\, 54557\, United States
ORGANIZER;CN="GIVN - Sarah Maki":MAILTO:sarah.maki44@gmail.com
END:VEVENT
BEGIN:VEVENT
DTSTART;TZID=America/Chicago:20260728T150000
DTEND;TZID=America/Chicago:20260728T160000
DTSTAMP:20260421T032709
CREATED:20260106T183307Z
LAST-MODIFIED:20260106T183307Z
UID:10001752-1785250800-1785254400@presqueislewi.gov
SUMMARY:Asahi -  Tues 3-4 pm
DESCRIPTION:
URL:https://presqueislewi.gov/event/asahi-tues-3-4-pm/2026-07-28/
LOCATION:Community Room\, 8306 School Loop Rd\, Presque Isle\, 54557\, United States
ORGANIZER;CN="GIVN - Sarah Maki":MAILTO:sarah.maki44@gmail.com
END:VEVENT
END:VCALENDAR