BEGIN:VCALENDAR
VERSION:2.0
PRODID:-//Town Presque Isle - ECPv6.15.20//NONSGML v1.0//EN
CALSCALE:GREGORIAN
METHOD:PUBLISH
X-ORIGINAL-URL:https://presqueislewi.gov
X-WR-CALDESC:Events for Town Presque Isle
REFRESH-INTERVAL;VALUE=DURATION:PT1H
X-Robots-Tag:noindex
X-PUBLISHED-TTL:PT1H
BEGIN:VTIMEZONE
TZID:America/Chicago
BEGIN:DAYLIGHT
TZOFFSETFROM:-0600
TZOFFSETTO:-0500
TZNAME:CDT
DTSTART:20240310T080000
END:DAYLIGHT
BEGIN:STANDARD
TZOFFSETFROM:-0500
TZOFFSETTO:-0600
TZNAME:CST
DTSTART:20241103T070000
END:STANDARD
BEGIN:DAYLIGHT
TZOFFSETFROM:-0600
TZOFFSETTO:-0500
TZNAME:CDT
DTSTART:20250309T080000
END:DAYLIGHT
BEGIN:STANDARD
TZOFFSETFROM:-0500
TZOFFSETTO:-0600
TZNAME:CST
DTSTART:20251102T070000
END:STANDARD
BEGIN:DAYLIGHT
TZOFFSETFROM:-0600
TZOFFSETTO:-0500
TZNAME:CDT
DTSTART:20260308T080000
END:DAYLIGHT
BEGIN:STANDARD
TZOFFSETFROM:-0500
TZOFFSETTO:-0600
TZNAME:CST
DTSTART:20261101T070000
END:STANDARD
BEGIN:DAYLIGHT
TZOFFSETFROM:-0600
TZOFFSETTO:-0500
TZNAME:CDT
DTSTART:20270314T080000
END:DAYLIGHT
BEGIN:STANDARD
TZOFFSETFROM:-0500
TZOFFSETTO:-0600
TZNAME:CST
DTSTART:20271107T070000
END:STANDARD
END:VTIMEZONE
BEGIN:VEVENT
DTSTART;TZID=America/Chicago:20260420T103000
DTEND;TZID=America/Chicago:20260420T170000
DTSTAMP:20260421T051001
CREATED:20260416T145012Z
LAST-MODIFIED:20260416T145012Z
UID:10001814-1776681000-1776704400@presqueislewi.gov
SUMMARY:Finance Committee meeting 10:30 am
DESCRIPTION:Finance Committee meeting 10:30  Board Room
URL:https://presqueislewi.gov/event/finance-committee-meeting-1030-am/
LOCATION:Community Room\, 8306 School Loop Rd\, Presque Isle\, 54557\, United States
END:VEVENT
BEGIN:VEVENT
DTSTART;TZID=America/Chicago:20260409T100000
DTEND;TZID=America/Chicago:20260409T120000
DTSTAMP:20260421T051001
CREATED:20260406T140928Z
LAST-MODIFIED:20260406T140928Z
UID:10001796-1775728800-1775736000@presqueislewi.gov
SUMMARY:Finance Committee
DESCRIPTION:Finance Committee  meeting – 10 am – 12 pm
URL:https://presqueislewi.gov/event/finance-committee/2026-04-09/
LOCATION:Board Room\, 8306 School Loop Rd\, Presque Isle\, WI\, 54557\, United States
END:VEVENT
BEGIN:VEVENT
DTSTART;TZID=America/Chicago:20250109T120000
DTEND;TZID=America/Chicago:20250109T140000
DTSTAMP:20260421T051001
CREATED:20250103T170621Z
LAST-MODIFIED:20250103T171100Z
UID:10000994-1736424000-1736431200@presqueislewi.gov
SUMMARY:Finance Committee Meeting
DESCRIPTION:
URL:https://presqueislewi.gov/event/finance-committee-meeting/
LOCATION:Board Room\, 8306 School Loop Rd\, Presque Isle\, WI\, 54557\, United States
END:VEVENT
END:VCALENDAR