BEGIN:VCALENDAR
VERSION:2.0
PRODID:-//Town Presque Isle - ECPv6.15.20//NONSGML v1.0//EN
CALSCALE:GREGORIAN
METHOD:PUBLISH
X-WR-CALNAME:Town Presque Isle
X-ORIGINAL-URL:https://presqueislewi.gov
X-WR-CALDESC:Events for Town Presque Isle
REFRESH-INTERVAL;VALUE=DURATION:PT1H
X-Robots-Tag:noindex
X-PUBLISHED-TTL:PT1H
BEGIN:VTIMEZONE
TZID:America/Chicago
BEGIN:DAYLIGHT
TZOFFSETFROM:-0600
TZOFFSETTO:-0500
TZNAME:CDT
DTSTART:20250309T080000
END:DAYLIGHT
BEGIN:STANDARD
TZOFFSETFROM:-0500
TZOFFSETTO:-0600
TZNAME:CST
DTSTART:20251102T070000
END:STANDARD
BEGIN:DAYLIGHT
TZOFFSETFROM:-0600
TZOFFSETTO:-0500
TZNAME:CDT
DTSTART:20260308T080000
END:DAYLIGHT
BEGIN:STANDARD
TZOFFSETFROM:-0500
TZOFFSETTO:-0600
TZNAME:CST
DTSTART:20261101T070000
END:STANDARD
BEGIN:DAYLIGHT
TZOFFSETFROM:-0600
TZOFFSETTO:-0500
TZNAME:CDT
DTSTART:20270314T080000
END:DAYLIGHT
BEGIN:STANDARD
TZOFFSETFROM:-0500
TZOFFSETTO:-0600
TZNAME:CST
DTSTART:20271107T070000
END:STANDARD
END:VTIMEZONE
BEGIN:VEVENT
DTSTART;TZID=America/Chicago:20260427T160000
DTEND;TZID=America/Chicago:20260427T190000
DTSTAMP:20260423T084948
CREATED:20260313T164655Z
LAST-MODIFIED:20260313T164655Z
UID:10001784-1777305600-1777316400@presqueislewi.gov
SUMMARY:Rehearsal Denim & Dessert 4-16-26
DESCRIPTION:4-7 pm Rehearsals D &b D
URL:https://presqueislewi.gov/event/rehearsal-denim-dessert-4-16-26/2026-04-27/
LOCATION:Community Room\, 8306 School Loop Rd\, Presque Isle\, 54557\, United States
END:VEVENT
BEGIN:VEVENT
DTSTART;TZID=America/Chicago:20260429T160000
DTEND;TZID=America/Chicago:20260429T190000
DTSTAMP:20260423T084948
CREATED:20260313T164655Z
LAST-MODIFIED:20260313T164655Z
UID:10001785-1777478400-1777489200@presqueislewi.gov
SUMMARY:Rehearsal Denim & Dessert 4-16-26
DESCRIPTION:4-7 pm Rehearsals D &b D
URL:https://presqueislewi.gov/event/rehearsal-denim-dessert-4-16-26/2026-04-29/
LOCATION:Community Room\, 8306 School Loop Rd\, Presque Isle\, 54557\, United States
END:VEVENT
END:VCALENDAR