BEGIN:VCALENDAR
VERSION:2.0
PRODID:-//Town Presque Isle - ECPv6.15.20//NONSGML v1.0//EN
CALSCALE:GREGORIAN
METHOD:PUBLISH
X-WR-CALNAME:Town Presque Isle
X-ORIGINAL-URL:https://presqueislewi.gov
X-WR-CALDESC:Events for Town Presque Isle
REFRESH-INTERVAL;VALUE=DURATION:PT1H
X-Robots-Tag:noindex
X-PUBLISHED-TTL:PT1H
BEGIN:VTIMEZONE
TZID:America/Chicago
BEGIN:DAYLIGHT
TZOFFSETFROM:-0600
TZOFFSETTO:-0500
TZNAME:CDT
DTSTART:20230312T080000
END:DAYLIGHT
BEGIN:STANDARD
TZOFFSETFROM:-0500
TZOFFSETTO:-0600
TZNAME:CST
DTSTART:20231105T070000
END:STANDARD
BEGIN:DAYLIGHT
TZOFFSETFROM:-0600
TZOFFSETTO:-0500
TZNAME:CDT
DTSTART:20240310T080000
END:DAYLIGHT
BEGIN:STANDARD
TZOFFSETFROM:-0500
TZOFFSETTO:-0600
TZNAME:CST
DTSTART:20241103T070000
END:STANDARD
BEGIN:DAYLIGHT
TZOFFSETFROM:-0600
TZOFFSETTO:-0500
TZNAME:CDT
DTSTART:20250309T080000
END:DAYLIGHT
BEGIN:STANDARD
TZOFFSETFROM:-0500
TZOFFSETTO:-0600
TZNAME:CST
DTSTART:20251102T070000
END:STANDARD
END:VTIMEZONE
BEGIN:VEVENT
DTSTART;TZID=America/Chicago:20240525T060000
DTEND;TZID=America/Chicago:20240525T120000
DTSTAMP:20260420T002552
CREATED:20240129T192317Z
LAST-MODIFIED:20240205T133852Z
UID:10000116-1716616800-1716638400@presqueislewi.gov
SUMMARY:Papoose/Rosalind Lake Association
DESCRIPTION:Contact:  Bev Kebrdle \n941-223-2063
URL:https://presqueislewi.gov/event/papoose-rosalind-lake-association/
LOCATION:Community Room\, 8306 School Loop Rd\, Presque Isle\, 54557\, United States
CATEGORIES:Town Facility Rental
END:VEVENT
END:VCALENDAR